50.000000000000000
0.000000000000000
0.000000000000000
-50.000000000000000
-332060.7026900000
5438589.6307450002
