50.000000000000000
0.000000000000000
0.000000000000000
-50.000000000000000
-186538.1296100000
5432396.3650829997
