50.000000000000000
0.000000000000000
0.000000000000000
-50.000000000000000
-348558.0800385000
5327992.6313939998
