50.000000000000000
0.000000000000000
0.000000000000000
-50.000000000000000
-38707.8015494500
5319272.6718170000
