50.000000000000000
0.000000000000000
0.000000000000000
-50.000000000000000
-561482.7637212001
5119727.4121230002
