50.000000000000000
0.000000000000000
0.000000000000000
-50.000000000000000
-360926.5743107000
5105699.7981829997
