50.000000000000000
0.000000000000000
0.000000000000000
-50.000000000000000
-200498.5885885000
5098883.0678650001
