50.000000000000000
0.000000000000000
0.000000000000000
-50.000000000000000
-40079.2726592200
5096937.1278390000
