50.000000000000000
0.000000000000000
0.000000000000000
-50.000000000000000
-538640.8889146000
4894170.9352340000
