50.000000000000000
0.000000000000000
0.000000000000000
-50.000000000000000
-372854.2390385000
4883437.9251039997
