50.000000000000000
0.000000000000000
0.000000000000000
-50.000000000000000
-207114.6018498000
4876621.0317740003
