50.000000000000000
0.000000000000000
0.000000000000000
-50.000000000000000
-405687.8505743000
4662328.5946509996
