50.000000000000000
0.000000000000000
0.000000000000000
-50.000000000000000
-213477.1565810000
4654423.1223090002
