50.000000000000000
0.000000000000000
0.000000000000000
-50.000000000000000
-42673.1454562000
4652486.9443859998
