50.000000000000000
0.000000000000000
0.000000000000000
-50.000000000000000
-395330.0521096000
4439006.7295380002
