50.000000000000000
0.000000000000000
0.000000000000000
-50.000000000000000
-219578.6657588000
4432288.9856789997
