50.000000000000000
0.000000000000000
0.000000000000000
-50.000000000000000
-43892.4644846300
4430371.8577469997
