50.000000000000000
0.000000000000000
0.000000000000000
-50.000000000000000
-405851.1129420000
4216836.8679849999
