50.000000000000000
0.000000000000000
0.000000000000000
-50.000000000000000
-225411.8703826000
4210217.9583369996
