50.000000000000000
0.000000000000000
0.000000000000000
-50.000000000000000
-45058.0927449100
4208329.2152650002
