50.000000000000000
0.000000000000000
0.000000000000000
-50.000000000000000
-230969.8463961000
3988209.0707919998
