50.000000000000000
0.000000000000000
0.000000000000000
-50.000000000000000
135278.5611064000
3990987.8984500002
