50.000000000000000
0.000000000000000
0.000000000000000
-50.000000000000000
-47222.8436783300
3764456.4788340000
