50.000000000000000
0.000000000000000
0.000000000000000
-50.000000000000000
508447.0941476000
3788915.9907630002
