49.998894344090026
0.000000000000000
0.000000000000000
-49.999168874079409
141873.9781718731
3546807.1847268175
