50.000000000000000
0.000000000000000
0.000000000000000
-50.000000000000000
330848.9071116000
3554892.5683990000
