50.000000000000000
0.000000000000000
0.000000000000000
-50.000000000000000
520100.7133582000
3566338.0217200001
