0.002484360013394
0.000000000000000
0.000000000000000
-0.002282345376615
-95.9989921197
29.5013832635
