50.0000000000
0.0000000000
0.0000000000
-50.0000000000
-98741.4300000000
3073330.2300000000
