50.000000000000000
0.000000000000000
0.000000000000000
-50.000000000000000
-101093.0000000000
2907467.0000000000
