50.0000000000
0.0000000000
0.0000000000
-50.0000000000
-104507.8000000000
2468336.5099999998
