50.0000000000
0.0000000000
0.0000000000
-50.0000000000
-104458.2600000000
2577576.9700000002
