0.0027651590
0.0000000000
0.0000000000
-0.0022453889
-78.9986174205
41.9988773055
