50.0000000000
0.0000000000
0.0000000000
-50.0000000000
-86414.2900000000
3128660.3900000000
