50.0000000000
0.0000000000
0.0000000000
-50.0000000000
-95217.7500000000
3351166.1600000000
