50.0000000000
0.0000000000
0.0000000000
-50.0000000000
-94069.2600000000
3574341.7700000000
