50.0000000000
0.0000000000
0.0000000000
-50.0000000000
-91714.8100000000
3798084.2900000000
