50.0000000000
0.0000000000
0.0000000000
-50.0000000000
-89356.9200000000
4022153.7400000000
