50.0000000000
0.0000000000
0.0000000000
-50.0000000000
-89357.0000000000
4022154.0000000000
