50.0000000000
0.0000000000
0.0000000000
-50.0000000000
-87048.3300000000
4246289.6200000000
