50.0000000000
0.0000000000
0.0000000000
-50.0000000000
-85819.6900000000
4358294.8600000000
