50.0000000000
0.0000000000
0.0000000000
-50.0000000000
-84642.0200000000
4470258.4200000000
