250.000000000000000
0.000000000000000
0.000000000000000
-250.000000000000000
-739185.5742956277
819254.0924322084
